BEGIN:VCALENDAR
VERSION:2.0
PRODID:-//Drupal iCal API//EN
X-WR-CALNAME:Calendar of Events
X-WR-TIMEZONE:America/Chicago
BEGIN:VTIMEZONE
TZID:America/Chicago
X-LIC-LOCATION:America/Chicago
BEGIN:DAYLIGHT
TZNAME:CDT
TZOFFSETFROM:-0600
TZOFFSETTO:-0500
DTSTART:20260308T080000
END:DAYLIGHT
BEGIN:STANDARD
TZNAME:CST
TZOFFSETFROM:-0500
TZOFFSETTO:-0600
DTSTART:20251102T070000
END:STANDARD
END:VTIMEZONE
BEGIN:VEVENT
UID:234ff615-e24a-4aaa-aa77-6ae7438ec9cd
DTSTART;TZID=America/Chicago:20260501T074500
SEQUENCE:0
TRANSP:TRANSPARENT
DTEND;TZID=America/Chicago:20260501T080000
SUMMARY:Friday Assembly
CLASS:PUBLIC
DESCRIPTION:Body \n\nFriday Assembly: Come see our spirit! - Every Friday i
 n the Andrews\nGym at 7:45 am 
RRULE:FREQ=WEEKLY;INTERVAL=1;UNTIL=20260528T235959Z;BYDAY=FR
DTSTAMP:20260425T123855Z
END:VEVENT
END:VCALENDAR